BEGIN:VCALENDAR
VERSION:2.0
PRODID:-//ChamberMaster//Event Calendar 2.0//EN
METHOD:PUBLISH
X-PUBLISHED-TTL:P3D
REFRESH-INTERVAL:P3D
CALSCALE:GREGORIAN
BEGIN:VEVENT
DTSTART:20230603T150000Z
DTEND:20230603T220000Z
X-MICROSOFT-CDO-ALLDAYEVENT:FALSE
SUMMARY:National Trails Day
DESCRIPTION:Join us at Lakeview Nature Area to celebrate National Trails Day and create your own self-led adventure! Visit our informative interpretive panels\, read our featured StoryWalk \, take a rest on the Nature Center porch\, and enjoy the trails and labyrinth nestled in our 55+ acres of restored tallgrass prairie!\n\nNational Trails Day seeks to connect more people to the adventures\, stories\, and memories nature can inspire. Bring along your friends and family and make sure to share your adventure with the nation using #NationalTrailsDay!\n\nWe can't wait to see you in the prairie!
X-ALT-DESC;FMTTYPE=text/html:Join us at Lakeview Nature Area to celebrate National Trails Day and create your own self-led adventure! Visit our informative interpretive panels\, read our featured StoryWalk&reg\;\, take a rest on the Nature Center porch\, and enjoy the trails and labyrinth nestled in our 55+ acres of restored tallgrass prairie!<br />\nNational Trails Day seeks to connect more people to the adventures\, stories\, and memories nature can inspire. Bring along your friends and family and make sure to share your adventure with the nation using #NationalTrailsDay!<br />\nWe can&rsquo\;t wait to see you in the prairie!
LOCATION:Lakeview Nature Area 10050 N. 1500th Rd. Macomb\, IL 61455
UID:e.2125.13546
SEQUENCE:3
DTSTAMP:20260423T192144Z
URL:https://business.macombareachamber.com/events/details/national-trails-day-13546
END:VEVENT

END:VCALENDAR
