BEGIN:VCALENDAR
VERSION:2.0
PRODID:-//ChamberMaster//Event Calendar 2.0//EN
METHOD:PUBLISH
X-PUBLISHED-TTL:P3D
REFRESH-INTERVAL:P3D
CALSCALE:GREGORIAN
BEGIN:VEVENT
DTSTART;VALUE=DATE:20260507
DTEND;VALUE=DATE:20260508
TRANSP:TRANSPARENT
X-MICROSOFT-CDO-ALLDAYEVENT:TRUE
SUMMARY:National Day of Prayer
DESCRIPTION:MACC invites the congregation and larger community to celebrate with us the National Day of Prayer on Thursday\, May 7\, at 6:30 p.m. in the Worship Center. This year's theme comes from 1 Chronicles 16:24\, reminding us to glorify God among the nations\, seeking Him in all generations.
X-ALT-DESC;FMTTYPE=text/html:<p><span style="background-color:transparent\; color:rgb(0\, 0\, 0)\; font-family:arial\,sans-serif\; font-size:11pt">MACC invites the congregation and larger community to celebrate with us the National Day of Prayer on Thursday\, May 7\, at 6:30 p.m. in the Worship Center. This year&rsquo\;s theme comes from 1 Chronicles 16:24\, reminding us to glorify God among the nations\, seeking Him in all generations.&nbsp\;</span></p>\n
LOCATION:1300 Maple Avenue Macomb\, IL
UID:e.2125.20711
SEQUENCE:3
DTSTAMP:20260423T125036Z
URL:https://business.macombareachamber.com/events/details/national-day-of-prayer-20711
END:VEVENT

END:VCALENDAR
