BEGIN:VCALENDAR
VERSION:2.0
PRODID:-//ChamberMaster//Event Calendar 2.0//EN
METHOD:PUBLISH
X-PUBLISHED-TTL:P3D
REFRESH-INTERVAL:P3D
CALSCALE:GREGORIAN
BEGIN:VEVENT
DTSTART;VALUE=DATE:20220731
DTEND;VALUE=DATE:20220801
TRANSP:TRANSPARENT
X-MICROSOFT-CDO-ALLDAYEVENT:TRUE
SUMMARY:NAACP Freedom Fund Banquet
DESCRIPTION:NAACP Freedom Fund Banquet. "Investing in our future through scholarship and social change."\n\n\n\nSunday\, July 31\, 2022\n\n2 pm - Social (Cash Bar)\n\n3 pm - Dinner & Program\n\n\n\nHeritage Room\, WIU Union\n\n1 University Circle\, Macomb\n\n\n\nFeaturing guest speaker Dr. Dawn Harris Jefferies\, President of Tri-County Urban League (Peoria)\n\n\n\n$40/person\n\n$300/table (8 seats)
X-ALT-DESC;FMTTYPE=text/html:NAACP Freedom Fund Banquet. &quot\;Investing in our future through scholarship and social change.&quot\;<br />\n<br />\nSunday\, July 31\, 2022<br />\n2 pm - Social (Cash Bar)<br />\n3 pm - Dinner &amp\; Program<br />\n<br />\nHeritage Room\, WIU Union<br />\n1 University Circle\, Macomb<br />\n<br />\nFeaturing guest speaker Dr. Dawn Harris Jefferies\, President of Tri-County Urban League (Peoria)<br />\n<br />\n$40/person<br />\n$300/table (8 seats)<br />\n&nbsp\;
LOCATION:
UID:e.2125.9926
SEQUENCE:3
DTSTAMP:20260422T120411Z
URL:https://business.macombareachamber.com/events/details/naacp-freedom-fund-banquet-9926
END:VEVENT

END:VCALENDAR
