BEGIN:VCALENDAR
VERSION:2.0
PRODID:-//ChamberMaster//Event Calendar 2.0//EN
METHOD:PUBLISH
X-PUBLISHED-TTL:P3D
REFRESH-INTERVAL:P3D
CALSCALE:GREGORIAN
BEGIN:VEVENT
DTSTART;VALUE=DATE:20231027
DTEND;VALUE=DATE:20231028
TRANSP:TRANSPARENT
X-MICROSOFT-CDO-ALLDAYEVENT:TRUE
SUMMARY:Music Major Discovery Day
DESCRIPTION:Professional Development Session with Dr. Scott Edgar - Social Emotional Learning in Music.
X-ALT-DESC;FMTTYPE=text/html:Professional Development Session with Dr. Scott Edgar - Social Emotional Learning in Music.&nbsp\;
LOCATION:Western Illinois University - Macomb Campus COFAC Recital Hall
UID:e.2125.13782
SEQUENCE:3
DTSTAMP:20260422T135104Z
URL:https://business.macombareachamber.com/events/details/music-major-discovery-day-13782
END:VEVENT

END:VCALENDAR
