BEGIN:VCALENDAR
VERSION:2.0
PRODID:-//ChamberMaster//Event Calendar 2.0//EN
METHOD:PUBLISH
X-PUBLISHED-TTL:P3D
REFRESH-INTERVAL:P3D
CALSCALE:GREGORIAN
BEGIN:VEVENT
DTSTART:20230407T000000Z
DTEND:20230407T020000Z
X-MICROSOFT-CDO-ALLDAYEVENT:FALSE
SUMMARY:Music at the Pub
DESCRIPTION:Music at the Pub with guest artist Lisa Wipperling. Part of "Jazz at the Pub" Concert Series with the HAT trio comprised of Matt Hughes\, George Turner\, and Whitney Ash.
X-ALT-DESC;FMTTYPE=text/html:Music at the Pub with guest artist Lisa Wipperling. Part of &quot\;Jazz at the Pub&quot\; Concert Series with the HAT trio comprised of Matt Hughes\, George Turner\, and Whitney Ash.&nbsp\;
LOCATION:Jackson Street Pub - 835 West Jackson Street\, Macomb
UID:e.2125.13075
SEQUENCE:3
DTSTAMP:20260423T232726Z
URL:https://business.macombareachamber.com/events/details/music-at-the-pub-13075
END:VEVENT

END:VCALENDAR
