BEGIN:VCALENDAR
VERSION:2.0
PRODID:-//ChamberMaster//Event Calendar 2.0//EN
METHOD:PUBLISH
X-PUBLISHED-TTL:P3D
REFRESH-INTERVAL:P3D
CALSCALE:GREGORIAN
BEGIN:VEVENT
DTSTART:20241015T230000Z
DTEND:20241016T010000Z
X-MICROSOFT-CDO-ALLDAYEVENT:FALSE
SUMMARY:Mushroom Felting Class
DESCRIPTION:Join us for National Mushroom Day! In this beginner-friendly workshop\, local artist Kristel Wroblewski will guide you step-by-step through the process of felting your very own mushroom!\n\nTools & Materials provided. This class is appropriate for creators age 12 and up.
X-ALT-DESC;FMTTYPE=text/html:Join us for National Mushroom Day! In this beginner-friendly workshop\, local artist Kristel Wroblewski will guide you step-by-step through the process of felting your very own mushroom!<br />\nTools &amp\; Materials provided. This class is appropriate for creators age 12 and up.<br />\n&nbsp\;
LOCATION:Macomb Arts Center 25 E. Side Square Macomb\, IL
UID:e.2125.16068
SEQUENCE:3
DTSTAMP:20260422T054452Z
URL:https://business.macombareachamber.com/events/details/mushroom-felting-class-16068
END:VEVENT

END:VCALENDAR
