BEGIN:VCALENDAR
VERSION:2.0
PRODID:-//ChamberMaster//Event Calendar 2.0//EN
METHOD:PUBLISH
X-PUBLISHED-TTL:P3D
REFRESH-INTERVAL:P3D
CALSCALE:GREGORIAN
BEGIN:VEVENT
DTSTART;VALUE=DATE:20230818
DTEND;VALUE=DATE:20230819
TRANSP:TRANSPARENT
X-MICROSOFT-CDO-ALLDAYEVENT:TRUE
SUMMARY:Movie in the Park: Lilo & Stitch
DESCRIPTION:Movies in the Park returns this summer to Veterans Park!\n\nBring your camping chairs and picnic blankets to enjoy a Disney family favorite\, Lilo & Stitch   FREE   under the twinkling stars!\n\nFree popcorn and drinks provided by First Bankers Trust Company\, NA and Refreshment Services Pepsi!  \n\nSee you August 18th - - Movie starts at 8:00 PM!\n\n- - - - - - - - - - - - - - - - - - - - - - - - - - - - - - -\n\nLilo & Stitch - rated PG\n\nA tale of a young girl's close encounter with the galaxy's most wanted extraterrestrial. Lilo is a lonely Hawaiian girl who adopts a small ugly "dog\," whom she names Stitch. Stitch would be the perfect pet if he weren't in reality a genetic experiment who has escaped from an alien planet and crash-landed on Earth. Through her love\, faith and unwavering belief in ohana\, the Hawaiian concept of family\, Lilo helps unlock Stitch's heart and gives him the ability to care for someone else.
X-ALT-DESC;FMTTYPE=text/html:Movies in the Park returns this summer to Veterans Park!<br />\nBring your camping chairs and picnic blankets to enjoy a Disney family favorite\, Lilo &amp\; Stitch &#128992\; FREE &#128992\; under the twinkling stars!<br />\nFree popcorn and drinks provided by First Bankers Trust Company\, NA and Refreshment Services Pepsi! &#127871\;<br />\nSee you August 18th - - Movie starts at 8:00 PM!<br />\n- - - - - - - - - - - - - - - - - - - - - - - - - - - - - - -<br />\nLilo &amp\; Stitch - rated PG<br />\nA tale of a young girl&#39\;s close encounter with the galaxy&#39\;s most wanted extraterrestrial. Lilo is a lonely Hawaiian girl who adopts a small ugly &quot\;dog\,&quot\; whom she names Stitch. Stitch would be the perfect pet if he weren&#39\;t in reality a genetic experiment who has escaped from an alien planet and crash-landed on Earth. Through her love\, faith and unwavering belief in ohana\, the Hawaiian concept of family\, Lilo helps unlock Stitch&#39\;s heart and gives him the ability to care for someone else.
LOCATION:Veterans Park
UID:e.2125.13550
SEQUENCE:3
DTSTAMP:20260423T163357Z
URL:https://business.macombareachamber.com/events/details/movie-in-the-park-lilo-stitch-13550
END:VEVENT

END:VCALENDAR
