BEGIN:VCALENDAR
VERSION:2.0
PRODID:-//ChamberMaster//Event Calendar 2.0//EN
METHOD:PUBLISH
X-PUBLISHED-TTL:P3D
REFRESH-INTERVAL:P3D
CALSCALE:GREGORIAN
BEGIN:VEVENT
DTSTART;VALUE=DATE:20230915
DTEND;VALUE=DATE:20230916
TRANSP:TRANSPARENT
X-MICROSOFT-CDO-ALLDAYEVENT:TRUE
SUMMARY:Movie in the Park: Hotel Transylvania: Transformania
DESCRIPTION:Movies in the Park returns this summer to Veterans Park!\n\nBring your camping chairs and picnic blankets to enjoy a family favorite\, Hotel Transylvania   FREE   under the twinkling stars!\n\nFree popcorn and drinks provided by First Bankers Trust Company\, NA and Refreshment Services Pepsi!  \n\nSee you September 15th - - Movie starts at 7:30 PM!\n\n- - - - - - - - - - - - - - - - - - - - - - - - - - - - - - -\n\nHotel Transylvania: Transformania - Rated PG\n\nVan Helsing's mysterious new invention transforms Drac and his pals into humans\, and Johnny into a monster. With their new mismatched bodies\, Drac and the pack must find a way to switch themselves back before their transformations become permanent.
X-ALT-DESC;FMTTYPE=text/html:Movies in the Park returns this summer to Veterans Park!<br />\nBring your camping chairs and picnic blankets to enjoy a family favorite\, Hotel Transylvania &#128992\; FREE &#128992\; under the twinkling stars!<br />\nFree popcorn and drinks provided by First Bankers Trust Company\, NA and Refreshment Services Pepsi! &#127871\;<br />\nSee you September 15th - - Movie starts at 7:30 PM!<br />\n- - - - - - - - - - - - - - - - - - - - - - - - - - - - - - -<br />\nHotel Transylvania: Transformania - Rated PG<br />\nVan Helsing&#39\;s mysterious new invention transforms Drac and his pals into humans\, and Johnny into a monster. With their new mismatched bodies\, Drac and the pack must find a way to switch themselves back before their transformations become permanent.&nbsp\;
LOCATION:Veterans Park
UID:e.2125.13551
SEQUENCE:3
DTSTAMP:20260422T154628Z
URL:https://business.macombareachamber.com/events/details/movie-in-the-park-hotel-transylvania-transformania-13551
END:VEVENT

END:VCALENDAR
