BEGIN:VCALENDAR
VERSION:2.0
PRODID:-//ChamberMaster//Event Calendar 2.0//EN
METHOD:PUBLISH
X-PUBLISHED-TTL:P3D
REFRESH-INTERVAL:P3D
CALSCALE:GREGORIAN
BEGIN:VEVENT
DTSTART;VALUE=DATE:20230609
DTEND;VALUE=DATE:20230610
TRANSP:TRANSPARENT
X-MICROSOFT-CDO-ALLDAYEVENT:TRUE
SUMMARY:Movie in the Park: Back to the Future
DESCRIPTION:Movies in the Park returns this summer to Veterans Park!\n\nBring your camping chairs and picnic blankets to enjoy Back to the Future   FREE   under the twinkling stars!\n\nFree popcorn and drinks provided by First Bankers Trust Company\, NA and Refreshment Services Pepsi!  \n\nSee you June 9th - - Movie starts at 8:30 PM!\n\n- - - - - - - - - - - - - - - - - - - - - - - - - - - - - - -\n\nBack to the Future - rated PG\n\nIn this 1980s sci-fi classic\, small-town California teen Marty McFly (Michael J. Fox) is thrown back into the '50s when an experiment by his eccentric scientist friend Doc Brown (Christopher Lloyd) goes awry. Traveling through time in a modified DeLorean car\, Marty encounters young versions of his parents (Crispin Glover\, Lea Thompson)\, and must make sure that they fall in love or he'll cease to exist. Even more dauntingly\, Marty has to return to his own time and save the life of Doc Brown.
X-ALT-DESC;FMTTYPE=text/html:Movies in the Park returns this summer to Veterans Park!<br />\nBring your camping chairs and picnic blankets to enjoy Back to the Future &#128992\; FREE &#128992\; under the twinkling stars!<br />\nFree popcorn and drinks provided by First Bankers Trust Company\, NA and Refreshment Services Pepsi! &#127871\;<br />\nSee you June 9th - - Movie starts at 8:30 PM!<br />\n- - - - - - - - - - - - - - - - - - - - - - - - - - - - - - -<br />\nBack to the Future - rated PG<br />\nIn this 1980s sci-fi classic\, small-town California teen Marty McFly (Michael J. Fox) is thrown back into the &#39\;50s when an experiment by his eccentric scientist friend Doc Brown (Christopher Lloyd) goes awry. Traveling through time in a modified DeLorean car\, Marty encounters young versions of his parents (Crispin Glover\, Lea Thompson)\, and must make sure that they fall in love or he&#39\;ll cease to exist. Even more dauntingly\, Marty has to return to his own time and save the life of Doc Brown.
LOCATION:Veterans Park
UID:e.2125.13547
SEQUENCE:3
DTSTAMP:20260423T192841Z
URL:https://business.macombareachamber.com/events/details/movie-in-the-park-back-to-the-future-13547
END:VEVENT

END:VCALENDAR
