BEGIN:VCALENDAR
VERSION:2.0
PRODID:-//ChamberMaster//Event Calendar 2.0//EN
METHOD:PUBLISH
X-PUBLISHED-TTL:P3D
REFRESH-INTERVAL:P3D
CALSCALE:GREGORIAN
BEGIN:VEVENT
DTSTART:20230511T233000Z
DTEND:20230512T013000Z
X-MICROSOFT-CDO-ALLDAYEVENT:FALSE
SUMMARY:Mother's Day Self-Care Night
DESCRIPTION:Happy Mother's Day! Enjoy a self-care night just for moms. Join the Early Beginnings family for yoga\, massage\, and gratitude journaling. Each activity is optional. Please let us know if you are planning on attending\, so we can provide you a free gift. You can use the QR code or contact our office.
X-ALT-DESC;FMTTYPE=text/html:Happy Mother&#39\;s Day! Enjoy a self-care night just for moms. Join the Early Beginnings family for yoga\, massage\, and gratitude journaling. Each activity is optional. Please let us know if you are planning on attending\, so we can provide you a free gift. You can use the QR code or contact our office.&nbsp\;
LOCATION:339 South Johnson Street\, Macomb
UID:e.2125.13107
SEQUENCE:3
DTSTAMP:20260423T233055Z
URL:https://business.macombareachamber.com/events/details/mother-s-day-self-care-night-13107
END:VEVENT

END:VCALENDAR
