BEGIN:VCALENDAR
VERSION:2.0
PRODID:-//ChamberMaster//Event Calendar 2.0//EN
METHOD:PUBLISH
X-PUBLISHED-TTL:P3D
REFRESH-INTERVAL:P3D
CALSCALE:GREGORIAN
BEGIN:VEVENT
DTSTART:20230513T160000Z
DTEND:20230513T190000Z
X-MICROSOFT-CDO-ALLDAYEVENT:FALSE
SUMMARY:Mother's Day Lanterns
DESCRIPTION:Make a special keepsake light for mom\, aunts or grandmother.\n\n\n\n$1.50 for each lantern.
X-ALT-DESC;FMTTYPE=text/html:Make a special keepsake light for mom\, aunts or grandmother.<br />\n<br />\n$1.50 for each lantern.
LOCATION:Discovery Depot Children's Museum 128 S Chambers St Galesburg\, IL 61401
UID:e.2125.13369
SEQUENCE:3
DTSTAMP:20260423T232748Z
URL:https://business.macombareachamber.com/events/details/mother-s-day-lanterns-13369
END:VEVENT

END:VCALENDAR
