BEGIN:VCALENDAR
VERSION:2.0
PRODID:-//ChamberMaster//Event Calendar 2.0//EN
METHOD:PUBLISH
X-PUBLISHED-TTL:P3D
REFRESH-INTERVAL:P3D
CALSCALE:GREGORIAN
BEGIN:VEVENT
DTSTART:20230514T140000Z
DTEND:20230514T170000Z
X-MICROSOFT-CDO-ALLDAYEVENT:FALSE
SUMMARY:Mother's Day Brunch
DESCRIPTION:Mother's Day Brunch. Menu includes scrambled eggs\, biscuits and gravy\, sausage\, bacon\, hash browns\, pancakes\, french toast\, fruit\, orange juice\, coffee\, milk. Mothers will have the choice of a complimentary drink of champagne or a mimosa if they choose. Mothers receive a complimentary carnation. Reservations preferred.
X-ALT-DESC;FMTTYPE=text/html:Mother&#39\;s Day Brunch. Menu includes scrambled eggs\, biscuits and gravy\, sausage\, bacon\, hash browns\, pancakes\, french toast\, fruit\, orange juice\, coffee\, milk. Mothers will have the choice of a complimentary drink of champagne or a mimosa if they choose. Mothers receive a complimentary carnation. Reservations preferred.&nbsp\;
LOCATION:Macomb Elks Lodge 1009 401 Deer Rd. Macomb\, IL 61455
UID:e.2125.13407
SEQUENCE:3
DTSTAMP:20260423T232747Z
URL:https://business.macombareachamber.com/events/details/mother-s-day-brunch-13407
END:VEVENT

END:VCALENDAR
