BEGIN:VCALENDAR
VERSION:2.0
PRODID:-//ChamberMaster//Event Calendar 2.0//EN
METHOD:PUBLISH
X-PUBLISHED-TTL:P3D
REFRESH-INTERVAL:P3D
CALSCALE:GREGORIAN
BEGIN:VEVENT
DTSTART:20241026T150000Z
DTEND:20241026T170000Z
X-MICROSOFT-CDO-ALLDAYEVENT:FALSE
SUMMARY:Moon Over Macomb at the Library
DESCRIPTION:Moon Over Macomb at the Macomb Public Library. Customize your own fabulous cape\, make a vampire headband\, take a Storywalk featuring "Vlad the Fabulous Vampire" by Flavia Z. Drago and more.
X-ALT-DESC;FMTTYPE=text/html:Moon Over Macomb at the Macomb Public Library. Customize your own fabulous cape\, make a vampire headband\, take a Storywalk featuring &quot\;Vlad the Fabulous Vampire&quot\; by Flavia Z. Drago and more.&nbsp\;
LOCATION:Macomb Public Library 235 S. Lafayette St. Macomb\, IL
UID:e.2125.16084
SEQUENCE:3
DTSTAMP:20260422T054419Z
URL:https://business.macombareachamber.com/events/details/moon-over-macomb-at-the-library-16084
END:VEVENT

END:VCALENDAR
