BEGIN:VCALENDAR
VERSION:2.0
PRODID:-//ChamberMaster//Event Calendar 2.0//EN
METHOD:PUBLISH
X-PUBLISHED-TTL:P3D
REFRESH-INTERVAL:P3D
CALSCALE:GREGORIAN
BEGIN:VEVENT
DTSTART:20230507T160000Z
DTEND:20230507T190000Z
X-MICROSOFT-CDO-ALLDAYEVENT:FALSE
SUMMARY:Mommy & Me Luncheon
DESCRIPTION:Calling all Mothers\, Grandmothers\, & Aunts! You're invited to our Mommy & Me Luncheon at your local Hy-Vee. Join us Sunday\, May 7 from 11AM - 2PM to celebrate Mother's Day early with your special little one with lunch\, coloring pages\, & free kids activities!
X-ALT-DESC;FMTTYPE=text/html:Calling all Mothers\, Grandmothers\, &amp\; Aunts! You&#39\;re invited to our Mommy &amp\; Me Luncheon at your local Hy-Vee. Join us Sunday\, May 7 from 11AM - 2PM to celebrate Mother&#39\;s Day early with your special little one with lunch\, coloring pages\, &amp\; free kids activities!&nbsp\;
LOCATION:Hy-Vee (1600 E. Jackson St.\, Macomb)
UID:e.2125.13421
SEQUENCE:3
DTSTAMP:20260423T233112Z
URL:https://business.macombareachamber.com/events/details/mommy-me-luncheon-13421
END:VEVENT

END:VCALENDAR
