BEGIN:VCALENDAR
VERSION:2.0
PRODID:-//ChamberMaster//Event Calendar 2.0//EN
METHOD:PUBLISH
X-PUBLISHED-TTL:P3D
REFRESH-INTERVAL:P3D
CALSCALE:GREGORIAN
BEGIN:VEVENT
DTSTART:20250425T143000Z
DTEND:20250425T163000Z
X-MICROSOFT-CDO-ALLDAYEVENT:FALSE
SUMMARY:Mobile Food Pantry
DESCRIPTION:In partnership with Samaritan Well\, Inc. & the WIU College Food Pantry \n\nRegistration is from \n\n9:30 a.m.   10:00 a.m. \n\nDistribution from \n\n10:00a.m. \n\nThank you to all the volunteers who make this event possible! \n\nFood provided by: \n\n\n\nMOBILE PANTRY: \n\nPlease arrive no more than 30 minutes before \n\ndistribution begins \n\nDistribution will be outdoors. \n\nThe distribution process can take up to an hour \n\nLaundry baskets are great for the Mobile Food Pantry. \n\nFor a searchable map of all food pantries in your area\, visit our website at: \n\nwww.riverbendfoodbank.org
X-ALT-DESC;FMTTYPE=text/html:In partnership with Samaritan Well\, Inc. &amp\; the WIU College Food Pantry&nbsp\;<br />\nRegistration is from&nbsp\;<br />\n9:30 a.m. &ndash\; 10:00 a.m.&nbsp\;<br />\nDistribution from&nbsp\;<br />\n10:00a.m.&nbsp\;<br />\nThank you to all the volunteers who make this event possible!&nbsp\;<br />\nFood provided by:&nbsp\;<br />\n<br />\nMOBILE PANTRY:&nbsp\;<br />\nPlease arrive no more than 30 minutes before&nbsp\;<br />\ndistribution begins&nbsp\;<br />\nDistribution will be outdoors.&nbsp\;<br />\nThe distribution process can take up to an hour&nbsp\;<br />\nLaundry baskets are great for the Mobile Food Pantry.&nbsp\;<br />\nFor a searchable map of all food pantries in your area\, visit our website at:&nbsp\;<br />\nwww.riverbendfoodbank.org&nbsp\;
LOCATION:Prairieview Townhomes 425 N. Prairie Drive Macomb\, IL
UID:e.2125.18765
SEQUENCE:3
DTSTAMP:20260420T112920Z
URL:https://business.macombareachamber.com/events/details/mobile-food-pantry-18765
END:VEVENT

END:VCALENDAR
