BEGIN:VCALENDAR
VERSION:2.0
PRODID:-//ChamberMaster//Event Calendar 2.0//EN
METHOD:PUBLISH
X-PUBLISHED-TTL:P3D
REFRESH-INTERVAL:P3D
CALSCALE:GREGORIAN
BEGIN:VEVENT
DTSTART;VALUE=DATE:20240412
DTEND;VALUE=DATE:20240413
TRANSP:TRANSPARENT
X-MICROSOFT-CDO-ALLDAYEVENT:TRUE
SUMMARY:MHS Student Council Trivia Night
DESCRIPTION:Join MHS Student Council on April 12 for Trivia Night! Concessions (bake sale items\, snacks\, and drinks) will be available. Click the link below or go to gofan.co and search "Macomb" to register!\n\n\n\nhttps://gofan.co/app/school/IL22272
X-ALT-DESC;FMTTYPE=text/html:<span style="color: rgb(5\, 5\, 5)\; font-family: &quot\;Segoe UI Historic&quot\;\, &quot\;Segoe UI&quot\;\, Helvetica\, Arial\, sans-serif\; font-size: 15px\; background-color: rgb(255\, 255\, 255)\;">Join MHS Student Council on April 12 for Trivia Night! Concessions (bake sale items\, snacks\, and drinks) will be available. Click the link below or go to gofan.co and search &quot\;Macomb&quot\; to register!</span><br style="color: rgb(5\, 5\, 5)\; font-family: &quot\;Segoe UI Historic&quot\;\, &quot\;Segoe UI&quot\;\, Helvetica\, Arial\, sans-serif\; font-size: 15px\; background-color: rgb(255\, 255\, 255)\;" />\n<br style="color: rgb(5\, 5\, 5)\; font-family: &quot\;Segoe UI Historic&quot\;\, &quot\;Segoe UI&quot\;\, Helvetica\, Arial\, sans-serif\; font-size: 15px\; background-color: rgb(255\, 255\, 255)\;" />\n<span style="font-family: &quot\;Segoe UI Historic&quot\;\, &quot\;Segoe UI&quot\;\, Helvetica\, Arial\, sans-serif\; color: rgb(5\, 5\, 5)\; font-size: 15px\; background-color: rgb(255\, 255\, 255)\;"><a class="x1i10hfl xjbqb8w x1ejq31n xd10rxx x1sy0etr x17r0tee x972fbf xcfux6l x1qhh985 xm0m39n x9f619 x1ypdohk xt0psk2 xe8uvvx xdj266r x11i5rnm xat24cr x1mh8g0r xexx8yu x4uap5 x18d9i69 xkhd6sd x16tdsg8 x1hl2dhg xggy1nq x1a2a7pz xt0b8zv x1fey0fg" href="https://l.facebook.com/l.php?u=https%3A%2F%2Fgofan.co%2Fapp%2Fschool%2FIL22272%3Ffbclid%3DIwAR3WlyDmZ2ISc_lGO9Bcxyy8HS4Hx2qTdM9lZe69LWnJrj4VepP6ZKTLl7M_aem_AWUJDcBn-T6ILOxivxnpSdf1qP7U0ffaIgR8JizcIVbNbBf3GWhiz0FyLH7bFWiETl-Z7UqJq4Ulq4XbIbreDY6A&amp\;h=AT2bs2EZuwq6cTI8ce_w0BFyQ1wHQnosQzdtdTn548eblS06zPI3YpYNmKVneSpODBegbVRI4-jtcLLFdZ-z5wlMZ3w_Mz8-lBlJp230tkxWdHavYL8-mDyjb4uiINuY8w&amp\;__tn__=-UK*F&amp\;c[0]=AT03vaVKKu5OEmzvT333nntbs3RfdlLpvH53UXHtZqUGfsTXO361vP6A14cHjD51qawC_gqBgLk5PdWjPvnDIeszN40wH_V9MKwuT7NdncT0gmsmoBaf9LULiqB_5whOm23_5q2Lbst2O0QNBMnCo8T8TA66XtHgnnQvz_uwZ-48Mntrj6vHSU9lRqpLILbgvaNbCdmAB25IGkgHUks" rel="nofollow noreferrer" role="link" style="cursor: pointer\; text-decoration-line: none\; outline: none\; margin: 0px\; text-align: inherit\; border-style: none\; padding: 0px\; border-width: 0px\; box-sizing: border-box\; background-color: transparent\; display: inline\; list-style: none\; -webkit-tap-highlight-color: transparent\; touch-action: manipulation\; font-family: inherit\;" tabindex="0" target="_blank">https://gofan.co/app/school/IL22272</a></span>
LOCATION:Macomb Arts Center 25 East Side Square Macomb\, IL
UID:e.2125.14582
SEQUENCE:3
DTSTAMP:20260423T102916Z
URL:https://business.macombareachamber.com/events/details/mhs-student-council-trivia-night-14582
END:VEVENT

END:VCALENDAR
