BEGIN:VCALENDAR
VERSION:2.0
PRODID:-//ChamberMaster//Event Calendar 2.0//EN
METHOD:PUBLISH
X-PUBLISHED-TTL:P3D
REFRESH-INTERVAL:P3D
CALSCALE:GREGORIAN
BEGIN:VEVENT
DTSTART;VALUE=DATE:20240404
DTEND;VALUE=DATE:20240407
TRANSP:TRANSPARENT
X-MICROSOFT-CDO-ALLDAYEVENT:TRUE
SUMMARY:MHS presents "Oklahoma"
DESCRIPTION:Macomb High School will present "Oklahoma!" April 4-6\, 2024.\n\nPerformance Times: \n\nThursday\, April 4th- 7:00 pm \n\nFriday\, April 5th- 7:00 pm \n\nSaturday\, April 6th- 2:00 pm and 7:00 pm \n\n Tickets will be available at the door.
X-ALT-DESC;FMTTYPE=text/html:<div class="xdj266r x11i5rnm xat24cr x1mh8g0r x1vvkbs x126k92a" style="margin: 0px\; overflow-wrap: break-word\; background-color: rgb(255\, 255\, 255)\;">\n<div dir="auto" style="">Macomb High School will present &ldquo\;Oklahoma!&rdquo\; April 4-6\, 2024.<br />\nPerformance Times:&nbsp\;<br />\nThursday\, April 4th- 7:00 pm&nbsp\;<br />\nFriday\, April 5th- 7:00 pm&nbsp\;<br />\nSaturday\, April 6th- 2:00 pm and 7:00 pm&nbsp\;<br />\n&nbsp\;Tickets will be available at the door.&nbsp\;&nbsp\;</div>\n</div>\n
LOCATION:Macomb High School 1525 South Johnson St. Macomb\, IL
UID:e.2125.14550
SEQUENCE:3
DTSTAMP:20260423T101819Z
URL:https://business.macombareachamber.com/events/details/mhs-presents-oklahoma-14550
END:VEVENT

END:VCALENDAR
