BEGIN:VCALENDAR
VERSION:2.0
PRODID:-//ChamberMaster//Event Calendar 2.0//EN
METHOD:PUBLISH
X-PUBLISHED-TTL:P3D
REFRESH-INTERVAL:P3D
CALSCALE:GREGORIAN
BEGIN:VEVENT
DTSTART;VALUE=DATE:20230401
DTEND;VALUE=DATE:20230403
TRANSP:TRANSPARENT
X-MICROSOFT-CDO-ALLDAYEVENT:TRUE
SUMMARY:MHS Presents A Midsummer Night's Dream
DESCRIPTION:MHS students will perform A Midsummer Night's Dream.
X-ALT-DESC;FMTTYPE=text/html:MHS students will perform A Midsummer Night&#39\;s Dream.&nbsp\;
LOCATION:Macomb High School - Fellheimer Auditorium - 1525 S. Johnson St.
UID:e.2125.13019
SEQUENCE:3
DTSTAMP:20260423T222214Z
URL:https://business.macombareachamber.com/events/details/mhs-presents-a-midsummer-night-s-dream-13019
END:VEVENT

END:VCALENDAR
