BEGIN:VCALENDAR
VERSION:2.0
PRODID:-//ChamberMaster//Event Calendar 2.0//EN
METHOD:PUBLISH
X-PUBLISHED-TTL:P3D
REFRESH-INTERVAL:P3D
CALSCALE:GREGORIAN
BEGIN:VEVENT
DTSTART;VALUE=DATE:20220910
DTEND;VALUE=DATE:20220911
TRANSP:TRANSPARENT
X-MICROSOFT-CDO-ALLDAYEVENT:TRUE
SUMMARY:MHS Powderpuff Football
DESCRIPTION:MHS Stadium - 1525 S. Johnson Street. \n\nSept 10 at 7 pm\n\nEntry Fee: 1 canned good (to be donated to a local food pantry)
X-ALT-DESC;FMTTYPE=text/html:MHS Stadium - 1525 S. Johnson Street.&nbsp\;<br />\nSept 10 at 7 pm<br />\nEntry Fee: 1 canned good (to be donated to a local food pantry)
LOCATION:
UID:e.2125.10243
SEQUENCE:3
DTSTAMP:20260423T103445Z
URL:https://business.macombareachamber.com/events/details/mhs-powderpuff-football-10243
END:VEVENT

END:VCALENDAR
