BEGIN:VCALENDAR
VERSION:2.0
PRODID:-//ChamberMaster//Event Calendar 2.0//EN
METHOD:PUBLISH
X-PUBLISHED-TTL:P3D
REFRESH-INTERVAL:P3D
CALSCALE:GREGORIAN
BEGIN:VEVENT
DTSTART:20230405T210000Z
DTEND:20230406T020000Z
X-MICROSOFT-CDO-ALLDAYEVENT:FALSE
SUMMARY:MHS Class of 2025 Fundraiser
DESCRIPTION:Join us April 5th for another great fundraiser!\n\n\n\nThe Macomb High School class of 2025 will be joining us from 4-9 pm and all tips earned will go towards their Prom and After Graduation Fund!\n\n\n\nCome in and show your support for these young adults!
X-ALT-DESC;FMTTYPE=text/html:Join us April 5th for another great fundraiser!<br />\n<br />\nThe Macomb High School class of 2025 will be joining us from 4-9 pm and all tips earned will go towards their Prom and After Graduation Fund!<br />\n<br />\nCome in and show your support for these young adults!
LOCATION:WildFire Bar & Grill - 928 W. Jackson Street
UID:e.2125.13074
SEQUENCE:3
DTSTAMP:20260423T221643Z
URL:https://business.macombareachamber.com/events/details/mhs-class-of-2025-fundraiser-13074
END:VEVENT

END:VCALENDAR
