BEGIN:VCALENDAR
VERSION:2.0
PRODID:-//ChamberMaster//Event Calendar 2.0//EN
METHOD:PUBLISH
X-PUBLISHED-TTL:P3D
REFRESH-INTERVAL:P3D
CALSCALE:GREGORIAN
BEGIN:VEVENT
DTSTART;VALUE=DATE:20230925
DTEND;VALUE=DATE:20230926
TRANSP:TRANSPARENT
X-MICROSOFT-CDO-ALLDAYEVENT:TRUE
SUMMARY:Mental Health Speaker Event
DESCRIPTION:The University Counseling Center is proud to announce that they will be co-hosting a special mental health speaker event featuring the one and only Katelyn Ohashi! WIU Office of Student Engagement\, Western Illinois Athletics\, WIU Housing and Dining\, Western Illinois University\, Katelyn Ohashi\n\n\n\nWe hope to see you there!\n\n  Date: 9/25/2023\n\n Time: 7:00PM\n\n  Location: University Union-Grand Ballroom
X-ALT-DESC;FMTTYPE=text/html:&nbsp\;The University Counseling Center is proud to announce that they will be co-hosting a special mental health speaker event featuring the one and only Katelyn Ohashi! WIU Office of Student Engagement\, Western Illinois Athletics\, WIU Housing and Dining\, Western Illinois University\, Katelyn Ohashi<br />\n<br />\nWe hope to see you there!<br />\n&#128198\; Date: 9/25/2023<br />\n&#9200\;Time: 7:00PM<br />\n&#128205\; Location: University Union-Grand Ballroom
LOCATION:Western Illinois University - Macomb Campus Grand Ballroom
UID:e.2125.14009
SEQUENCE:3
DTSTAMP:20260422T135043Z
URL:https://business.macombareachamber.com/events/details/mental-health-speaker-event-14009
END:VEVENT

END:VCALENDAR
