BEGIN:VCALENDAR
VERSION:2.0
PRODID:-//ChamberMaster//Event Calendar 2.0//EN
METHOD:PUBLISH
X-PUBLISHED-TTL:P3D
REFRESH-INTERVAL:P3D
CALSCALE:GREGORIAN
BEGIN:VEVENT
DTSTART:20241025T130000Z
DTEND:20241025T180000Z
X-MICROSOFT-CDO-ALLDAYEVENT:FALSE
SUMMARY:Mental Health First Aid
DESCRIPTION:Mental Health First Aid (MHFA) teaches you how to identify\, understand\, and respond to signs of mental health and substance use challenges among adults. \n\n\n\nThis course is designed for employers\, police officers\, hospital staff\, first responders\, and caring individuals.
X-ALT-DESC;FMTTYPE=text/html:Mental Health First Aid (MHFA) teaches you how to identify\, understand\, and respond to signs of mental health and substance use challenges among adults.&nbsp\;<br />\n<br />\nThis course is designed for employers\, police officers\, hospital staff\, first responders\, and caring individuals.&nbsp\;
LOCATION:Regional Office of Education 130 S. Lafayette St.\, Ste. 200 Macomb\, IL
UID:e.2125.15485
SEQUENCE:3
DTSTAMP:20260422T054558Z
URL:https://business.macombareachamber.com/events/details/mental-health-first-aid-15485
END:VEVENT

END:VCALENDAR
