BEGIN:VCALENDAR
VERSION:2.0
PRODID:-//ChamberMaster//Event Calendar 2.0//EN
METHOD:PUBLISH
X-PUBLISHED-TTL:P3D
REFRESH-INTERVAL:P3D
CALSCALE:GREGORIAN
BEGIN:VEVENT
DTSTART:20230607T140000Z
DTEND:20230607T183000Z
X-MICROSOFT-CDO-ALLDAYEVENT:FALSE
SUMMARY:Mental Health First Aid
DESCRIPTION:The UPDATED Youth Mental Health First Aid is designed to teach adults how to help an adolescent (age 12-18) experiencing a mental health\, addiction challenge\, or crisis.\n\nThis updated course introduces common mental health challenges for youth\, reviews typical adolescent development\, and teaches a 5-step action plan to help young people in crisis\n\nand non-crisis situations.\n\n\n\nThe next training is June 7th\, 2023\, at the Regional Office of Education 26 First Floor Large Conference Room 130 S. Lafayette Street\, Macomb\, IL\, from 9 a.m. to 1:30 p.m. with lunch provided!
X-ALT-DESC;FMTTYPE=text/html:The UPDATED Youth Mental Health First Aid is designed to teach adults how to help an adolescent (age 12-18) experiencing a mental health\, addiction challenge\, or crisis.<br />\nThis updated course introduces common mental health challenges for youth\, reviews typical adolescent development\, and teaches a 5-step action plan to help young people in crisis<br />\nand non-crisis situations.<br />\n<br />\nThe next training is June 7th\, 2023\, at the Regional Office of Education 26 First Floor Large Conference Room 130 S. Lafayette Street\, Macomb\, IL\, from 9 a.m. to 1:30 p.m. with lunch provided!
LOCATION:
UID:e.2125.13055
SEQUENCE:3
DTSTAMP:20260423T192257Z
URL:https://business.macombareachamber.com/events/details/mental-health-first-aid-13055
END:VEVENT

END:VCALENDAR
