BEGIN:VCALENDAR
VERSION:2.0
PRODID:-//ChamberMaster//Event Calendar 2.0//EN
METHOD:PUBLISH
X-PUBLISHED-TTL:P3D
REFRESH-INTERVAL:P3D
CALSCALE:GREGORIAN
BEGIN:VEVENT
DTSTART:20230426T190000Z
DTEND:20230426T200000Z
X-MICROSOFT-CDO-ALLDAYEVENT:FALSE
SUMMARY:Memorial Tree Planting Ceremony
DESCRIPTION:Western Illinois University will host the annual Employee Memorial Tree Planting Ceremony at 2 p.m. Wednesday\, April 26\, at Memorial Tree Grove on the Macomb campus.\n\n\n\nEach year WIU honors employees who passed away the year prior in a memorial planting ceremony. This year\, the ceremony will honor Yvonne Zaborac\, who passed away in 2022.\n\n\n\nThe Memorial Tree Grove\, located on the southeast section of campus by University Village\, near the West Pierce Street entrance\, was established in Fall 2003\, following a recommendation by members of Western's American Federation of State\, County and Municipal Employees (AFSCME) Local 417\, with support from the Civil Service Employees Council\, the Council of Administrative Personnel\, Faculty Senate and University administration.\n\n\n\nThe annual ceremony includes one tree planted in memory of all employees who passed away during the preceding year. Honorees are employees who die while either actively working\, on disability\, on workers compensation or on an approved leave from the University. To date\, Western has honored 61 individuals.
X-ALT-DESC;FMTTYPE=text/html:Western Illinois University will host the annual Employee Memorial Tree Planting Ceremony at 2 p.m. Wednesday\, April 26\, at Memorial Tree Grove on the Macomb campus.<br />\n<br />\nEach year WIU honors employees who passed away the year prior in a memorial planting ceremony. This year\, the ceremony will honor Yvonne Zaborac\, who passed away in 2022.<br />\n<br />\nThe Memorial Tree Grove\, located on the southeast section of campus by University Village\, near the West Pierce Street entrance\, was established in Fall 2003\, following a recommendation by members of Western&#39\;s American Federation of State\, County and Municipal Employees (AFSCME) Local 417\, with support from the Civil Service Employees Council\, the Council of Administrative Personnel\, Faculty Senate and University administration.<br />\n<br />\nThe annual ceremony includes one tree planted in memory of all employees who passed away during the preceding year. Honorees are employees who die while either actively working\, on disability\, on workers compensation or on an approved leave from the University. To date\, Western has honored 61 individuals.
LOCATION:
UID:e.2125.13073
SEQUENCE:3
DTSTAMP:20260423T221449Z
URL:https://business.macombareachamber.com/events/details/memorial-tree-planting-ceremony-13073
END:VEVENT

END:VCALENDAR
