BEGIN:VCALENDAR
VERSION:2.0
PRODID:-//ChamberMaster//Event Calendar 2.0//EN
METHOD:PUBLISH
X-PUBLISHED-TTL:P3D
REFRESH-INTERVAL:P3D
CALSCALE:GREGORIAN
BEGIN:VEVENT
DTSTART:20240910T213000Z
DTEND:20240910T230000Z
X-MICROSOFT-CDO-ALLDAYEVENT:FALSE
SUMMARY:McDonough Quality of Life Committee Community Awards
DESCRIPTION:Join us in celebrating the outstanding contributions of our community at the McDonough County Quality of Life Committee's Annual Community Awards. This event honors residents and organizations who have significantly enhanced the quality of life in McDonough County through their exceptional volunteer efforts during the 2023-2024 year.\n\nEvent Details:\n\n\n	Date: September 10\, 2024\n	Time: 4:30 PM - 6:00 PM\n	Location: LaMoine Room\, Western Illinois University Union\n	Admission: $10 at the door ($11 with credit card)\n	Features: Heavy appetizers and a cash bar\n	Parking: Available in the union parking lot\n\n\nCelebrate with us as we recognize the dedication and hard work of those who make McDonough County a wonderful place to live.\n\n\n\nRegister online and either mark that you will pay cash or check at the door ($10) or pay online now with a credit card ($11).
X-ALT-DESC;FMTTYPE=text/html:<p>Join us in celebrating the outstanding contributions of our community at the McDonough County Quality of Life Committee&#39\;s Annual Community Awards. This event honors residents and organizations who have significantly enhanced the quality of life in McDonough County through their exceptional volunteer efforts during the 2023-2024 year.</p>\n\n<p><strong>Event Details:</strong></p>\n\n<ul>\n	<li><strong>Date:</strong> September 10\, 2024</li>\n	<li><strong>Time:</strong> 4:30 PM - 6:00 PM</li>\n	<li><strong>Location:</strong> LaMoine Room\, Western Illinois University Union</li>\n	<li><strong>Admission:</strong> $10 at the door ($11 with credit card)</li>\n	<li><strong>Features:</strong> Heavy appetizers and a cash bar</li>\n	<li><strong>Parking:</strong> Available in the union parking lot</li>\n</ul>\n\n<p>Celebrate with us as we recognize the dedication and hard work of those who make McDonough County a wonderful place to live.<br />\n<br />\n<strong>Register online and either mark that you will pay cash or check at the door ($10) or pay online now with a credit card ($11).</strong></p>\n
LOCATION:Western Illinois University University Union LaMoine Room
UID:e.2125.15443
SEQUENCE:3
DTSTAMP:20260422T075811Z
URL:https://business.macombareachamber.com/events/details/mcdonough-quality-of-life-committee-community-awards-15443
END:VEVENT

END:VCALENDAR
