BEGIN:VCALENDAR
VERSION:2.0
PRODID:-//ChamberMaster//Event Calendar 2.0//EN
METHOD:PUBLISH
X-PUBLISHED-TTL:P3D
REFRESH-INTERVAL:P3D
CALSCALE:GREGORIAN
BEGIN:VEVENT
DTSTART:20241026T180000Z
DTEND:20241026T200000Z
X-MICROSOFT-CDO-ALLDAYEVENT:FALSE
SUMMARY:McDonald's Halloween Trunk or Treat
DESCRIPTION:McDonald's Halloween Trunk or Treat. Games\, prizes\, and music.
X-ALT-DESC;FMTTYPE=text/html:McDonald&#39\;s Halloween Trunk or Treat. Games\, prizes\, and music.&nbsp\;
LOCATION:McDonald's 625 W. Jackson St. Macomb\, IL
UID:e.2125.16086
SEQUENCE:3
DTSTAMP:20260422T093404Z
URL:https://business.macombareachamber.com/events/details/mcdonald-s-halloween-trunk-or-treat-16086
END:VEVENT

END:VCALENDAR
