BEGIN:VCALENDAR
VERSION:2.0
PRODID:-//ChamberMaster//Event Calendar 2.0//EN
METHOD:PUBLISH
X-PUBLISHED-TTL:P3D
REFRESH-INTERVAL:P3D
CALSCALE:GREGORIAN
BEGIN:VEVENT
DTSTART:20230517T213000Z
DTEND:20230517T230000Z
X-MICROSOFT-CDO-ALLDAYEVENT:FALSE
SUMMARY:May Business After Hours
DESCRIPTION:A free networking event for Chamber members and potential new members as well.
X-ALT-DESC;FMTTYPE=text/html:A free networking event for Chamber members and potential new members as well.&nbsp\;
LOCATION:Woodrum Automotive - 3100 E. Jackson St.\, Macomb
UID:e.2125.12321
SEQUENCE:3
DTSTAMP:20260423T204505Z
URL:https://business.macombareachamber.com/events/details/may-business-after-hours-12321
END:VEVENT

END:VCALENDAR
