BEGIN:VCALENDAR
VERSION:2.0
PRODID:-//ChamberMaster//Event Calendar 2.0//EN
METHOD:PUBLISH
X-PUBLISHED-TTL:P3D
REFRESH-INTERVAL:P3D
CALSCALE:GREGORIAN
BEGIN:VEVENT
DTSTART:20240418T130000Z
DTEND:20240418T220000Z
X-MICROSOFT-CDO-ALLDAYEVENT:FALSE
SUMMARY:Master the Disaster
DESCRIPTION:The McDonough County Health Department and McDonough ESDA are partnering to offer Master the Disaster training to McDonough County businesses to aid and encourage their emergency planning efforts. Last year's severe weather and the extended recovery efforts highlighted the need to better equip our businesses to prepare for and respond to emergencies and disasters. To that end\, we have worked to assemble a group of presenters who will connect our local operators with the resources and planning materials they need to be better prepared.\n\nThis training is being offered at no cost to attendees.
X-ALT-DESC;FMTTYPE=text/html:The McDonough County Health Department and McDonough ESDA are partnering to offer Master the Disaster training to McDonough County businesses to aid and encourage their emergency planning efforts. Last year&rsquo\;s severe weather and the extended recovery efforts highlighted the need to better equip our businesses to prepare for and respond to emergencies and disasters. To that end\, we have worked to assemble a group of presenters who will connect our local operators with the resources and planning materials they need to be better prepared.<br />\nThis training is being offered at no cost to attendees.
LOCATION:McDonough County Emergency Operations Center Western Illinois University Tanner Hall
UID:e.2125.14804
SEQUENCE:3
DTSTAMP:20260423T101819Z
URL:https://business.macombareachamber.com/events/details/master-the-disaster-14804
END:VEVENT

END:VCALENDAR
