BEGIN:VCALENDAR
VERSION:2.0
PRODID:-//ChamberMaster//Event Calendar 2.0//EN
METHOD:PUBLISH
X-PUBLISHED-TTL:P3D
REFRESH-INTERVAL:P3D
CALSCALE:GREGORIAN
BEGIN:VEVENT
DTSTART:20230513T150000Z
DTEND:20230513T200000Z
X-MICROSOFT-CDO-ALLDAYEVENT:FALSE
SUMMARY:Macomb Spring Market on the Square
DESCRIPTION:Macomb Spring Market on the Square. Vendors include pop up and mobile boutiques\, vintage makers\, handmade goods\, food trucks\, baked goods\, and more.
X-ALT-DESC;FMTTYPE=text/html:Macomb Spring Market on the Square. Vendors include pop up and mobile boutiques\, vintage makers\, handmade goods\, food trucks\, baked goods\, and more.&nbsp\;
LOCATION:Downtown Macomb Square
UID:e.2125.13474
SEQUENCE:3
DTSTAMP:20260423T232917Z
URL:https://business.macombareachamber.com/events/details/macomb-spring-market-on-the-square-13474
END:VEVENT

END:VCALENDAR
