BEGIN:VCALENDAR
VERSION:2.0
PRODID:-//ChamberMaster//Event Calendar 2.0//EN
METHOD:PUBLISH
X-PUBLISHED-TTL:P3D
REFRESH-INTERVAL:P3D
CALSCALE:GREGORIAN
BEGIN:VEVENT
DTSTART:20231007T203000Z
DTEND:20231008T033000Z
X-MICROSOFT-CDO-ALLDAYEVENT:FALSE
SUMMARY:Macomb's Unforgettable Lincoln Day
DESCRIPTION:Macomb's inaugural Unforgettable Lincoln Day will be held downtown on Saturday\, Oct. 7 and feature the nation's leading Lincoln interpreter\, entertainment from singer/songwriter\, and roots musician Chris Vallillo\, The Illinois Freedom Project\, a special "Movie In The Park" featuring Steven Spielberg's "Lincoln" an original play by Dr. Tim Roberts\, "When Macomb Hosted Lincoln: Devising the Freeport Question" as well as our eAtlas powered historic Looking For Lincoln Tour\, horse drawn trolley rides\, Civil War reactors and more.
X-ALT-DESC;FMTTYPE=text/html:Macomb&#39\;s inaugural Unforgettable Lincoln Day will be held downtown on Saturday\, Oct. 7 and feature the nation&#39\;s leading Lincoln interpreter\, entertainment from singer/songwriter\, and roots musician Chris Vallillo\, The Illinois Freedom Project\, a special &ldquo\;Movie In The Park&rdquo\; featuring Steven Spielberg&rsquo\;s &ldquo\;Lincoln&rdquo\; an original play by Dr. Tim Roberts\, &ldquo\;When Macomb Hosted Lincoln: Devising the Freeport Question&rdquo\; as well as our eAtlas powered historic Looking For Lincoln Tour\, horse drawn trolley rides\, Civil War reactors and more.&nbsp\;
LOCATION:Macomb Courthouse Square Macomb\, IL
UID:e.2125.14015
SEQUENCE:3
DTSTAMP:20260422T122435Z
URL:https://business.macombareachamber.com/events/details/macomb-s-unforgettable-lincoln-day-14015
END:VEVENT

END:VCALENDAR
