BEGIN:VCALENDAR
VERSION:2.0
PRODID:-//ChamberMaster//Event Calendar 2.0//EN
METHOD:PUBLISH
X-PUBLISHED-TTL:P3D
REFRESH-INTERVAL:P3D
CALSCALE:GREGORIAN
BEGIN:VEVENT
DTSTART:20230403T230000Z
DTEND:20230404T010000Z
X-MICROSOFT-CDO-ALLDAYEVENT:FALSE
SUMMARY:Macomb's Own Board Game Celebration!
DESCRIPTION:Join us to try our newly created local board games! Games for all ages that are made by creators right here in Macomb!\n\nThis event is free and open to the public to come and see what we have been working on during our "Board Game Workshop" the past 3 months.\n\nHere are some quick examples of the games that will be debuting:\n\nMenu Mayhem- A father/daughter created game for all ages about building tasty snacks.\n\nGnome Home- An all-ages racing game about garden gnomes going home.\n\nMy Dream Home- A family created game about building your dream house against all odds.\n\nQuests & Questions- A trivia game about fairytales where you are trying to win the most gems.\n\nBlack Inventors- A fun matching game\, where you are learning while challenging your memory.\n\nDante's Inferno- A 2 player co-op game in which you journey through 9 challenging realms.\n\nWeather Wizards- A mother/son team creating a game about tackling climate change.\n\nForgottonia- A quick\, fun card game where you are trying to build a flight before anyone else.
X-ALT-DESC;FMTTYPE=text/html:Join us to try our newly created local board games! Games for all ages that are made by creators right here in Macomb!<br />\nThis event is free and open to the public to come and see what we have been working on during our &quot\;Board Game Workshop&quot\; the past 3 months.<br />\nHere are some quick examples of the games that will be debuting:<br />\nMenu Mayhem- A father/daughter created game for all ages about building tasty snacks.<br />\nGnome Home- An all-ages racing game about garden gnomes going home.<br />\nMy Dream Home- A family created game about building your dream house against all odds.<br />\nQuests &amp\; Questions- A trivia game about fairytales where you are trying to win the most gems.<br />\nBlack Inventors- A fun matching game\, where you are learning while challenging your memory.<br />\nDante&rsquo\;s Inferno- A 2 player co-op game in which you journey through 9 challenging realms.<br />\nWeather Wizards- A mother/son team creating a game about tackling climate change.<br />\nForgottonia- A quick\, fun card game where you are trying to build a flight before anyone else.
LOCATION:Battlegrounds LGS\, LLC - 726 E. Jackson Street\, Macomb.
UID:e.2125.13048
SEQUENCE:3
DTSTAMP:20260423T221523Z
URL:https://business.macombareachamber.com/events/details/macomb-s-own-board-game-celebration-13048
END:VEVENT

END:VCALENDAR
