BEGIN:VCALENDAR
VERSION:2.0
PRODID:-//ChamberMaster//Event Calendar 2.0//EN
METHOD:PUBLISH
X-PUBLISHED-TTL:P3D
REFRESH-INTERVAL:P3D
CALSCALE:GREGORIAN
BEGIN:VEVENT
DTSTART:20230424T213000Z
DTEND:20230425T000000Z
X-MICROSOFT-CDO-ALLDAYEVENT:FALSE
SUMMARY:Macomb Purple & Gold Day Social
DESCRIPTION:Join Western Illinois University and your Alumni Association for Purple & Gold Day and the The Western Challenge! The first 100 guests wearing purple will receive a FREE drink. Complimentary appetizers while they last and cash bar (pay by cash or credit). All guests will receive a free ticket for a door prize drawing. \n\n\n\nThe Western Challenge\, an energized 24-hour online fundraising event to support the WIU students\, faculty and campus programs. It's a day for Leathernecks everywhere to unite in giving in a display of Western pride. You can support The Western Challenge Day of Giving by making a gift on April 24\, spreading the word using the hashtag #LeathernecksGive and by becoming an online advocate to help drive the effort!\n\nFor more information\, visit wiu.edu/westernchallenge or call (309) 298-1874
X-ALT-DESC;FMTTYPE=text/html:Join Western Illinois University and your Alumni Association for Purple &amp\; Gold Day and the The Western Challenge! The first 100 guests wearing purple will receive a FREE drink. Complimentary appetizers while they last and cash bar (pay by cash or credit). All guests will receive a free ticket for a door prize drawing.&nbsp\;<br />\n<br />\nThe Western Challenge\, an energized 24-hour online fundraising event to support the WIU students\, faculty and campus programs. It&rsquo\;s a day for Leathernecks everywhere to unite in giving in a display of Western pride. You can support The Western Challenge Day of Giving by making a gift on April 24\, spreading the word using the hashtag #LeathernecksGive and by becoming an online advocate to help drive the effort!<br />\nFor more information\, visit wiu.edu/westernchallenge or call (309) 298-1874<br />\n<br />\n&nbsp\;
LOCATION:Sports Corner @124 - 124 N. Randolph St.\, Macomb
UID:e.2125.13061
SEQUENCE:3
DTSTAMP:20260423T222411Z
URL:https://business.macombareachamber.com/events/details/macomb-purple-gold-day-social-13061
END:VEVENT

END:VCALENDAR
