BEGIN:VCALENDAR
VERSION:2.0
PRODID:-//ChamberMaster//Event Calendar 2.0//EN
METHOD:PUBLISH
X-PUBLISHED-TTL:P3D
REFRESH-INTERVAL:P3D
CALSCALE:GREGORIAN
BEGIN:VEVENT
DTSTART:20230707T000000Z
DTEND:20230707T013000Z
X-MICROSOFT-CDO-ALLDAYEVENT:FALSE
SUMMARY:Macomb Municipal Band Concert
DESCRIPTION:The City of Macomb invites you to the City Hall lawn this summer to enjoy music by the Macomb Municipal Band.
X-ALT-DESC;FMTTYPE=text/html:The City of Macomb invites you to the City Hall lawn this summer to enjoy music by the Macomb Municipal Band.
LOCATION:City of Macomb - City Hall Lawn - 232 East Jackson St.
UID:e.2125.13599
SEQUENCE:3
DTSTAMP:20260423T192559Z
URL:https://business.macombareachamber.com/events/details/macomb-municipal-band-concert-13599
END:VEVENT

END:VCALENDAR
