BEGIN:VCALENDAR
VERSION:2.0
PRODID:-//ChamberMaster//Event Calendar 2.0//EN
METHOD:PUBLISH
X-PUBLISHED-TTL:P3D
REFRESH-INTERVAL:P3D
CALSCALE:GREGORIAN
BEGIN:VEVENT
DTSTART:20230811T140000Z
DTEND:20230811T183000Z
X-MICROSOFT-CDO-ALLDAYEVENT:FALSE
SUMMARY:Macomb Middle School Orientation
DESCRIPTION:Macomb Middle School Orientation for students and their parents.
X-ALT-DESC;FMTTYPE=text/html:Macomb Middle School Orientation for students and their parents.&nbsp\;<br />\n&nbsp\;
LOCATION:Macomb Middle School 1531 S. Johnson St. Macomb\, Illinois
UID:e.2125.13660
SEQUENCE:3
DTSTAMP:20260423T162936Z
URL:https://business.macombareachamber.com/events/details/macomb-middle-school-orientation-13660
END:VEVENT

END:VCALENDAR
