BEGIN:VCALENDAR
VERSION:2.0
PRODID:-//ChamberMaster//Event Calendar 2.0//EN
METHOD:PUBLISH
X-PUBLISHED-TTL:P3D
REFRESH-INTERVAL:P3D
CALSCALE:GREGORIAN
BEGIN:VEVENT
DTSTART;VALUE=DATE:20240427
DTEND;VALUE=DATE:20240428
TRANSP:TRANSPARENT
X-MICROSOFT-CDO-ALLDAYEVENT:TRUE
SUMMARY:Macomb High School Sr. Prom
DESCRIPTION:Macomb Sr. High School Prom
X-ALT-DESC;FMTTYPE=text/html:Macomb Sr. High School Prom
LOCATION:
UID:e.2125.14827
SEQUENCE:3
DTSTAMP:20260423T055212Z
URL:https://business.macombareachamber.com/events/details/macomb-high-school-sr-prom-14827
END:VEVENT

END:VCALENDAR
