BEGIN:VCALENDAR
VERSION:2.0
PRODID:-//ChamberMaster//Event Calendar 2.0//EN
METHOD:PUBLISH
X-PUBLISHED-TTL:P3D
REFRESH-INTERVAL:P3D
CALSCALE:GREGORIAN
BEGIN:VEVENT
DTSTART;VALUE=DATE:20230428
DTEND;VALUE=DATE:20230429
TRANSP:TRANSPARENT
X-MICROSOFT-CDO-ALLDAYEVENT:TRUE
SUMMARY:Macomb High Bomber Tee Ball League Registration
DESCRIPTION:Macomb High School Bomber Tee Ball League. Learn the basics of baseball and softball from the MHS Bomber baseball and softball teams. All kids ages 3-5 (Must be 3 by June 1\, 2023). Held every Wednesday Evening in June 5-7 pm. Mail or drop off registration by April 28.
X-ALT-DESC;FMTTYPE=text/html:Macomb High School Bomber Tee Ball League. Learn the basics of baseball and softball from the MHS Bomber baseball and softball teams. All kids ages 3-5 (Must be 3 by June 1\, 2023). Held every Wednesday Evening in June 5-7 pm. Mail or drop off registration by April 28.&nbsp\;
LOCATION:Macomb High School Athletics - 1525 S. Johnson St.
UID:e.2125.13146
SEQUENCE:3
DTSTAMP:20260423T221827Z
URL:https://business.macombareachamber.com/events/details/macomb-high-bomber-tee-ball-league-registration-13146
END:VEVENT

END:VCALENDAR
