BEGIN:VCALENDAR
VERSION:2.0
PRODID:-//ChamberMaster//Event Calendar 2.0//EN
METHOD:PUBLISH
X-PUBLISHED-TTL:P3D
REFRESH-INTERVAL:P3D
CALSCALE:GREGORIAN
BEGIN:VEVENT
DTSTART:20241017T130000Z
DTEND:20241017T170000Z
X-MICROSOFT-CDO-ALLDAYEVENT:FALSE
SUMMARY:Macomb Farmers Market
DESCRIPTION:Support your local growers\, producers\, makers.
X-ALT-DESC;FMTTYPE=text/html:Support your local growers\, producers\, makers.&nbsp\;
LOCATION:Chandler Park - Downtown Macomb
UID:e.2125.14996
SEQUENCE:3
DTSTAMP:20260422T055859Z
URL:https://business.macombareachamber.com/events/details/macomb-farmers-market-10-17-2024-14996
END:VEVENT

END:VCALENDAR
