BEGIN:VCALENDAR
VERSION:2.0
PRODID:-//ChamberMaster//Event Calendar 2.0//EN
METHOD:PUBLISH
X-PUBLISHED-TTL:P3D
REFRESH-INTERVAL:P3D
CALSCALE:GREGORIAN
BEGIN:VEVENT
DTSTART:20240711T130000Z
DTEND:20240711T170000Z
X-MICROSOFT-CDO-ALLDAYEVENT:FALSE
SUMMARY:Macomb Farmers Market
DESCRIPTION:Support your local growers\, producers\, makers.
X-ALT-DESC;FMTTYPE=text/html:Support your local growers\, producers\, makers.&nbsp\;
LOCATION:Chandler Park - Downtown Macomb
UID:e.2125.14982
SEQUENCE:3
DTSTAMP:20260423T011232Z
URL:https://business.macombareachamber.com/events/details/macomb-farmers-market-07-11-2024-14982
END:VEVENT

END:VCALENDAR
