BEGIN:VCALENDAR
VERSION:2.0
PRODID:-//ChamberMaster//Event Calendar 2.0//EN
METHOD:PUBLISH
X-PUBLISHED-TTL:P3D
REFRESH-INTERVAL:P3D
CALSCALE:GREGORIAN
BEGIN:VEVENT
DTSTART;VALUE=DATE:20230605
DTEND;VALUE=DATE:20230609
TRANSP:TRANSPARENT
X-MICROSOFT-CDO-ALLDAYEVENT:TRUE
SUMMARY:Macomb Bomber Boys Basketball Camp
DESCRIPTION:Macomb Bomber Boys Basketball Camp. Instruction from high school coaches. Individual fundamental instruction. Tournaments and competitions. Team concept instruction.
X-ALT-DESC;FMTTYPE=text/html:Macomb Bomber Boys Basketball Camp. Instruction from high school coaches. Individual fundamental instruction. Tournaments and competitions. Team concept instruction.&nbsp\;
LOCATION:Macomb High School Gym - 1525 S. Johnson St.
UID:e.2125.13079
SEQUENCE:3
DTSTAMP:20260423T192537Z
URL:https://business.macombareachamber.com/events/details/macomb-bomber-boys-basketball-camp-13079
END:VEVENT

END:VCALENDAR
