BEGIN:VCALENDAR
VERSION:2.0
PRODID:-//ChamberMaster//Event Calendar 2.0//EN
METHOD:PUBLISH
X-PUBLISHED-TTL:P3D
REFRESH-INTERVAL:P3D
CALSCALE:GREGORIAN
BEGIN:VEVENT
DTSTART:20241016T220000Z
DTEND:20241017T000000Z
X-MICROSOFT-CDO-ALLDAYEVENT:FALSE
SUMMARY:Macomb Band Boosters Fall Fest 2024
DESCRIPTION:Featuring performances by Macomb Bands.\n\n6th grade - 5:15pm\n\n7th grade - 5:35pm\n\n8th grade - 6pm\n\nMarching Bomber Band - 6:30pm at Bomber Stadium\n\n\n\nMeal includes pulled pork sandwich and/or pizza slice\, chips\, beverage (water\, iced tea\, lemonade) & dessert. \n\n\n\nBe sure to check out the silent auction bake sale.
X-ALT-DESC;FMTTYPE=text/html:Featuring performances by Macomb Bands.<br />\n6th grade - 5:15pm<br />\n7th grade - 5:35pm<br />\n8th grade - 6pm<br />\nMarching Bomber Band - 6:30pm at Bomber Stadium<br />\n<br />\nMeal includes pulled pork sandwich and/or pizza slice\, chips\, beverage (water\, iced tea\, lemonade) &amp\; dessert.&nbsp\;<br />\n<br />\nBe sure to check out the silent auction bake sale.&nbsp\;
LOCATION:Macomb High School Commons
UID:e.2125.16040
SEQUENCE:3
DTSTAMP:20260422T054552Z
URL:https://business.macombareachamber.com/events/details/macomb-band-boosters-fall-fest-2024-16040
END:VEVENT

END:VCALENDAR
