BEGIN:VCALENDAR
VERSION:2.0
PRODID:-//ChamberMaster//Event Calendar 2.0//EN
METHOD:PUBLISH
X-PUBLISHED-TTL:P3D
REFRESH-INTERVAL:P3D
CALSCALE:GREGORIAN
BEGIN:VEVENT
DTSTART;VALUE=DATE:20220909
DTEND;VALUE=DATE:20220911
TRANSP:TRANSPARENT
X-MICROSOFT-CDO-ALLDAYEVENT:TRUE
SUMMARY:Macomb Balloon Rally
DESCRIPTION:The Annual Balloon Rally began in 1987 and is considered the granddaddy of all Midwest Hot-Air Balloon festivals. This 35th anniversary opens at 6:00 PM Friday night where you can enjoy food\, beverages and live music as you watch over 20 giant Hot-Air Balloons lift off and fly out from WIU's Vince Grady Field.\n\nThen Saturday\, beginning in the wee hours of the morning and lasting all day\, witness the skies across Macomb filled with balloons. At 6:00 PM on Vince Grady Field sample food trucks and listen to live music from "The Leftovers" while strolling amongst a field of towering Hot-Air Balloons. And as the sun sets and the pilots fire things up for the unforgettable spectacle that is "Balloon Glow!"\n\nIt's all part of Macomb's Art\, Wind & Fire Weekend including the annual Gazebo Art Festival and the YFC Disc Golf Tournament!\n\nLearn more at www.facebook.com/MacombBalloonRally or www.visitforgottonia.com
X-ALT-DESC;FMTTYPE=text/html:The Annual Balloon Rally began in 1987 and is considered the granddaddy of all Midwest Hot-Air Balloon festivals. This 35th anniversary opens at 6:00 PM Friday night where you can enjoy food\, beverages and live music as you watch over 20 giant Hot-Air Balloons lift off and fly out from WIU&rsquo\;s Vince Grady Field.<br />\nThen Saturday\, beginning in the wee hours of the morning and lasting all day\, witness the skies across Macomb filled with balloons. At 6:00 PM on Vince Grady Field sample food trucks and listen to live music from &quot\;The Leftovers&quot\; while strolling amongst a field of towering Hot-Air Balloons. And as the sun sets and the pilots fire things up for the unforgettable spectacle that is &ldquo\;Balloon Glow!&rdquo\;<br />\nIt&#39\;s all part of Macomb&#39\;s Art\, Wind &amp\; Fire Weekend including the annual Gazebo Art Festival and the YFC Disc Golf Tournament!<br />\nLearn more at www.facebook.com/MacombBalloonRally or www.visitforgottonia.com
LOCATION:Vince Grady Field
UID:e.2125.9928
SEQUENCE:3
DTSTAMP:20260423T085009Z
URL:https://business.macombareachamber.com/events/details/macomb-balloon-rally-9928
END:VEVENT

END:VCALENDAR
