BEGIN:VCALENDAR
VERSION:2.0
PRODID:-//ChamberMaster//Event Calendar 2.0//EN
METHOD:PUBLISH
X-PUBLISHED-TTL:P3D
REFRESH-INTERVAL:P3D
CALSCALE:GREGORIAN
BEGIN:VEVENT
DTSTART:20230511T230000Z
DTEND:20230512T000000Z
X-MICROSOFT-CDO-ALLDAYEVENT:FALSE
SUMMARY:Macomb Baby Dedication 2023
DESCRIPTION:At the Crossing\, we celebrate Parent/Baby dedication on Mother's Day (May 11/14) weekend at all of our services. This is a time when the parents can dedicate their baby back to the Lord and they can dedicate themselves to raising their child to know Christ. If you would like to participate in a Dedication Service\, you must attend both classes that are offered: 9AM Service April 30 and 9AM Service May 7. If you have any questions\, please contact Kennedy Greenlief or Susan Davis.
X-ALT-DESC;FMTTYPE=text/html:At the Crossing\, we celebrate Parent/Baby dedication on Mother&#39\;s Day (May 11/14) weekend at all of our services. This is a time when the parents can dedicate their baby back to the Lord and they can dedicate themselves to raising their child to know Christ. If you would like to participate in a Dedication Service\, you must attend both classes that are offered: 9AM Service April 30 and 9AM Service May 7. If you have any questions\, please contact Kennedy Greenlief or Susan Davis.
LOCATION:The Crossing - 1600 W. Jackson Street\, Macomb
UID:e.2125.13384
SEQUENCE:3
DTSTAMP:20260423T232726Z
URL:https://business.macombareachamber.com/events/details/macomb-baby-dedication-2023-13384
END:VEVENT

END:VCALENDAR
