BEGIN:VCALENDAR
VERSION:2.0
PRODID:-//ChamberMaster//Event Calendar 2.0//EN
METHOD:PUBLISH
X-PUBLISHED-TTL:P3D
REFRESH-INTERVAL:P3D
CALSCALE:GREGORIAN
BEGIN:VEVENT
DTSTART:20240410T220000Z
DTEND:20240411T010000Z
X-MICROSOFT-CDO-ALLDAYEVENT:FALSE
SUMMARY:Macomb Area Crime Stoppers Lasagna Dinner
DESCRIPTION:Macomb Area Crime Stoppers Lasagna Dinner. 5 pm-8 pm. $30/per person. $225/table of 8. \n\n\n\nSilent Auction featuring lawn care tools\, Cubs tickets\, power tools\, baked goods\, guns\, and much more. 50/50 Drawing - K-9 Demo - Less than Lethal Demos\n\n\n\nTickets available at Magnolia's and the McDonough County Sheriff's Office.\n\nFor more information\, contact Deputy Adam Cremer (309) 255-2798
X-ALT-DESC;FMTTYPE=text/html:Macomb Area Crime Stoppers Lasagna Dinner. 5 pm-8 pm. $30/per person. $225/table of 8.&nbsp\;<br />\n<br />\nSilent Auction featuring lawn care tools\, Cubs tickets\, power tools\, baked goods\, guns\, and much more.&nbsp\;50/50 Drawing - K-9 Demo - Less than Lethal Demos<br />\n<br />\nTickets available at Magnolia&#39\;s and the McDonough County Sheriff&#39\;s Office.<br />\nFor more information\, contact Deputy Adam Cremer (309) 255-2798
LOCATION:Park Place 127 E Carroll St. Macomb\, IL
UID:e.2125.14802
SEQUENCE:3
DTSTAMP:20260423T102125Z
URL:https://business.macombareachamber.com/events/details/macomb-area-crime-stoppers-lasagna-dinner-14802
END:VEVENT

END:VCALENDAR
