BEGIN:VCALENDAR
VERSION:2.0
PRODID:-//ChamberMaster//Event Calendar 2.0//EN
METHOD:PUBLISH
X-PUBLISHED-TTL:P3D
REFRESH-INTERVAL:P3D
CALSCALE:GREGORIAN
BEGIN:VEVENT
DTSTART:20230816T220000Z
DTEND:20230816T233000Z
X-MICROSOFT-CDO-ALLDAYEVENT:FALSE
SUMMARY:MacArthur Early Childhood Center Orientation
DESCRIPTION:Edison School Orientation for grades 3-5.
X-ALT-DESC;FMTTYPE=text/html:Edison School Orientation for grades 3-5.&nbsp\;
LOCATION:Edison School 521 S. Pearl Street Macomb\, Illinois
UID:e.2125.13691
SEQUENCE:3
DTSTAMP:20260423T175141Z
URL:https://business.macombareachamber.com/events/details/macarthur-early-childhood-center-orientation-13691
END:VEVENT

END:VCALENDAR
