BEGIN:VCALENDAR
VERSION:2.0
PRODID:-//ChamberMaster//Event Calendar 2.0//EN
METHOD:PUBLISH
X-PUBLISHED-TTL:P3D
REFRESH-INTERVAL:P3D
CALSCALE:GREGORIAN
BEGIN:VEVENT
DTSTART;VALUE=DATE:20230817
DTEND;VALUE=DATE:20230818
TRANSP:TRANSPARENT
X-MICROSOFT-CDO-ALLDAYEVENT:TRUE
SUMMARY:MacArthur Early Childhood Center Orientation
DESCRIPTION:MacArthur Early Childhood Center Orientation. Morning Session is 8-10 am and Afternoon Session is Noon-2 pm.
X-ALT-DESC;FMTTYPE=text/html:MacArthur Early Childhood Center Orientation. Morning Session is 8-10 am and Afternoon Session is Noon-2 pm.&nbsp\;
LOCATION:MacArthur Early Childhood Center 235 W. Grant Street Macomb\, Illinois
UID:e.2125.13661
SEQUENCE:3
DTSTAMP:20260423T163418Z
URL:https://business.macombareachamber.com/events/details/macarthur-early-childhood-center-orientation-13661
END:VEVENT

END:VCALENDAR
