BEGIN:VCALENDAR
VERSION:2.0
PRODID:-//ChamberMaster//Event Calendar 2.0//EN
METHOD:PUBLISH
X-PUBLISHED-TTL:P3D
REFRESH-INTERVAL:P3D
CALSCALE:GREGORIAN
BEGIN:VEVENT
DTSTART:20230422T160000Z
DTEND:20230422T200000Z
X-MICROSOFT-CDO-ALLDAYEVENT:FALSE
SUMMARY:Love Your Pet Event
DESCRIPTION:Pet Supplies Plus Pocket Pet Party. Egg hunt. Snacks. Hamster Races. Raffle. Local Shelters. Face Painting. Raffle. We will have something for all ages.
X-ALT-DESC;FMTTYPE=text/html:Pet Supplies Plus Pocket Pet Party. Egg hunt. Snacks. Hamster Races. Raffle. Local Shelters. Face Painting. Raffle. We will have something for all ages.&nbsp\;
LOCATION:Pet Supplies Plus - 103B S. Dudley Street\, Macomb
UID:e.2125.13102
SEQUENCE:3
DTSTAMP:20260423T233755Z
URL:https://business.macombareachamber.com/events/details/love-your-pet-event-13102
END:VEVENT

END:VCALENDAR
