BEGIN:VCALENDAR
VERSION:2.0
PRODID:-//ChamberMaster//Event Calendar 2.0//EN
METHOD:PUBLISH
X-PUBLISHED-TTL:P3D
REFRESH-INTERVAL:P3D
CALSCALE:GREGORIAN
BEGIN:VEVENT
DTSTART:20230603T000000Z
DTEND:20230603T030000Z
X-MICROSOFT-CDO-ALLDAYEVENT:FALSE
SUMMARY:Los Chicos del 512\, The Selena Experience
DESCRIPTION:The members of Los Chicos del 512 came to together for one reason. That one reason is to bring the magic of Selena to old and new fans worldwide. Since the group's inception in 2014\, they have been successfully doing just that.  Having sold out venue after venue and with a most recent performance for the Chicago Bulls and theMarines in Okinawa\, Japan\,Los Chicos del 512 are on fire!\n\n\n\n \n\n\n\nThis show is a mind-blowing experience and the closest one can get to live a Selena concert. Simply\, the best Selena tribute production out there!  These musicians came together and orchestrated an extraordinary show that will have you back to 1995 within seconds of their first song.Los Chicos del 512will bring to you the finest Selena tribute that you can possibly imagine. Now\, get ready to sing\, dance and relive Selena!\n\n\n\nThis show is still available for sponsorship. If your business would like to sponsor on \n\nof our shows\, please email info@thelegacytheater.com.
X-ALT-DESC;FMTTYPE=text/html:The members of Los Chicos del 512 came to together for one reason. That one reason is to bring the magic of Selena to old and new fans worldwide. Since the group&rsquo\;s inception in 2014\, they have been successfully doing just that.&nbsp\; Having sold out venue after venue and with a most recent performance for the Chicago Bulls and theMarines in Okinawa\, Japan\,Los Chicos del 512 are on fire!<br />\n<br />\n&nbsp\;<br />\n<br />\nThis show is a mind-blowing experience and the closest one can get to live a Selena concert. Simply\, the best Selena tribute production out there!&nbsp\; These musicians came together and orchestrated an extraordinary show that will have you back to 1995 within seconds of their first song.Los Chicos del 512will bring to you the finest Selena tribute that you can possibly imagine. Now\, get ready to sing\, dance and relive Selena!<br />\n<br />\nThis show is still available for sponsorship. If your business would like to sponsor on&nbsp\;<br />\nof our shows\, please email info@thelegacytheater.com.
LOCATION:The Legacy Theater - 1160 Buchanan Street - Carthage\, IL
UID:e.2125.12748
SEQUENCE:3
DTSTAMP:20260423T192451Z
URL:https://business.macombareachamber.com/events/details/los-chicos-del-512-the-selena-experience-12748
END:VEVENT

END:VCALENDAR
