BEGIN:VCALENDAR
VERSION:2.0
PRODID:-//ChamberMaster//Event Calendar 2.0//EN
METHOD:PUBLISH
X-PUBLISHED-TTL:P3D
REFRESH-INTERVAL:P3D
CALSCALE:GREGORIAN
BEGIN:VEVENT
DTSTART:20230826T153000Z
DTEND:20230826T170000Z
X-MICROSOFT-CDO-ALLDAYEVENT:FALSE
SUMMARY:Living With Ease: An Introduction to the Alexander Technique
DESCRIPTION:Come hear an introduction to the Alexander Technique by local Alexander Technique teacher Claire Happel Ashe. She will give background information on the method and hands-on activities to become more aware of your posture\, movement\, and balance in everyday activities. Recent research has shown long-term benefits for people struggling with chronic back pain\, chronic neck pain\, and the symptoms of Parkinson's Disease.
X-ALT-DESC;FMTTYPE=text/html:Come hear an introduction to the Alexander Technique by local Alexander Technique teacher Claire Happel Ashe. She will give background information on the method and hands-on activities to become more aware of your posture\, movement\, and balance in everyday activities. Recent research has shown long-term benefits for people struggling with chronic back pain\, chronic neck pain\, and the symptoms of Parkinson&rsquo\;s Disease.
LOCATION:Macomb Public Library
UID:e.2125.13697
SEQUENCE:3
DTSTAMP:20260423T163158Z
URL:https://business.macombareachamber.com/events/details/living-with-ease-an-introduction-to-the-alexander-technique-13697
END:VEVENT

END:VCALENDAR
