BEGIN:VCALENDAR
VERSION:2.0
PRODID:-//ChamberMaster//Event Calendar 2.0//EN
METHOD:PUBLISH
X-PUBLISHED-TTL:P3D
REFRESH-INTERVAL:P3D
CALSCALE:GREGORIAN
BEGIN:VEVENT
DTSTART;VALUE=DATE:20241019
DTEND;VALUE=DATE:20241020
TRANSP:TRANSPARENT
X-MICROSOFT-CDO-ALLDAYEVENT:TRUE
SUMMARY:Live Wrestling: House of Horror
DESCRIPTION:Destination 6 presents\n\n  House Of Horror  \n\n136 W Carroll St. Macomb\, IL 61455\n\nshow starts @ 6PM\n\nget your tickets now \n\nTickets online through Cash App or at the Destination6 arena so mark your Calendar   \n\nhttps://cash.app/$D6Wrestling\n\nhttps://venmo.com/u/CCD6W\n\nGet them while they last! Tickets are already selling fast for October 19TH 2024\n\n          House of Horror   Come share in the most scariest & horrifying night at Destination 6\n\nAttention all ghouls & boos for a costume contest!" \n\nCome dressed to impress\, for the spookiest or most clever of all kids will win a prize. \n\nCome Costumed! Fright Night is almost here\, get your costumes if you fear!" \n\nIf you missed the last event you're definitely not going to want to miss this night
X-ALT-DESC;FMTTYPE=text/html:Destination 6 presents<br />\n&#128680\; House Of Horror &#128680\;<br />\n136 W Carroll St. Macomb\, IL 61455<br />\nshow starts @ 6PM<br />\nget your tickets now&nbsp\;<br />\nTickets online through Cash App or at the Destination6 arena so mark your Calendar &#128467\;&#65039\;<br />\nhttps://cash.app/$D6Wrestling<br />\nhttps://venmo.com/u/CCD6W<br />\nGet them while they last! Tickets are already selling fast for October 19TH 2024<br />\n&nbsp\; &nbsp\; &nbsp\; &nbsp\; &nbsp\;&#128293\;House of Horror &#128293\;&nbsp\;Come share in the most scariest &amp\; horrifying night at Destination 6<br />\nAttention all ghouls &amp\; boos for a costume contest!&quot\;&nbsp\;<br />\nCome dressed to impress\, for the spookiest or most clever of all kids will win a prize.&nbsp\;<br />\nCome Costumed! Fright Night is almost here\, get your costumes if you fear!&quot\;&nbsp\;<br />\nIf you missed the last event you&rsquo\;re definitely not going to want to miss this night
LOCATION:
UID:e.2125.15997
SEQUENCE:3
DTSTAMP:20260422T055859Z
URL:https://business.macombareachamber.com/events/details/live-wrestling-house-of-horror-15997
END:VEVENT

END:VCALENDAR
