BEGIN:VCALENDAR
VERSION:2.0
PRODID:-//ChamberMaster//Event Calendar 2.0//EN
METHOD:PUBLISH
X-PUBLISHED-TTL:P3D
REFRESH-INTERVAL:P3D
CALSCALE:GREGORIAN
BEGIN:VEVENT
DTSTART:20230409T000000Z
DTEND:20230409T030000Z
X-MICROSOFT-CDO-ALLDAYEVENT:FALSE
SUMMARY:Live Music: Willie Jones
DESCRIPTION:Willie Jones will be performing covers out in the beer garden starting at 7 PM.
X-ALT-DESC;FMTTYPE=text/html:<h2 class="gmql0nx0 l94mrbxd p1ri9a11 lzcic4wl d2edcug0 hpfvmrgz" dir="auto" style="color: inherit\; font-size: inherit\; font-weight: inherit\; margin: 0px\; padding: 0px\; outline: none\; max-width: 100%\; min-width: 0px\; font-family: inherit\;">Willie Jones will be performing covers out in the beer garden starting at 7 PM.</h2>\n
LOCATION:Forgottonia Brewing - 324 N Lafayette Street\, Macomb
UID:e.2125.13086
SEQUENCE:3
DTSTAMP:20260423T221734Z
URL:https://business.macombareachamber.com/events/details/live-music-willie-jones-13086
END:VEVENT

END:VCALENDAR
